BEGIN:VCALENDAR
VERSION:2.0
PRODID:WorCo
X-WR-CALNAME:Kentucky Derby at Tales
BEGIN:VEVENT
UID:352132026-05-02
DTSTART:20260502T200000Z
SEQUENCE:0
TRANSP:OPAQUE
DTEND:20260502T233000Z
LOCATION:2107 Herring Way #22st\nOcean City Maryland 21842
X-APPLE-STRUCTURED-LOCATION;VALUE=URI;X-ADDRESS=2107 Herring Way #22st\nOce
 an City Maryland 21842;X-APPLE-RADIUS=49;X-TITLE=2107 Herring Way #22st:ge
 o:38.351513,-75.078432
GEO:38.351513;-75.078432
SUMMARY:Kentucky Derby at Tales
CLASS:PUBLIC
DESCRIPTION:🏇 JOIN US FOR THE KENTUCKY DERBY AT FISH TALES! 🏇\n\nGet 
 ready for a day of excitement\, fashion\, and fun! Come watch\nthe KENTUC
 KY DERBY with us at Fish Tales.\n\n *\nBEST DRESSED CONTEST: Show off yo
 ur Derby style! The winner will\nreceive a $50 FISH TALES GIFT CARD and 
 a FISH TALES HAT.\n\n *\nBET ON YOUR FAVORITE HORSE: Try your luck and s
 ee if your pick comes\nin first!\n\nBring your friends\, sip on your favor
 ite drinks\, and enjoy the\nrace-day atmosphere. Don’t miss out on the f
 un — we can’t wait\nto see your Derby best!\n
X-ALT-DESC;FMTTYPE=text/html:<p><strong>🏇 Join Us for the Kentucky Derby
  at Fish Tales! 🏇</strong></p>\n\n<p>Get ready for a day of excitement\
 , fashion\, and fun! Come watch the&nbsp\;<strong>Kentucky Derby</strong>&
 nbsp\;with us at Fish Tales.</p>\n\n<ul>\n<li>\n<p><strong>Best Dressed Co
 ntest:</strong>&nbsp\;Show off your Derby style! The winner will receive a
 &nbsp\;<strong>$50 Fish Tales gift card</strong>&nbsp\;and a&nbsp\;<strong
 >Fish Tales hat</strong>.</p>\n</li>\n<li>\n<p><strong>Bet on Your Favorit
 e Horse:</strong>&nbsp\;Try your luck and see if your pick comes in first!
 </p>\n</li>\n</ul>\n\n<p>Bring your friends\, sip on your favorite drinks\
 , and enjoy the race-day atmosphere. Don&rsquo\;t miss out on the fun &mda
 sh\; we can&rsquo\;t wait to see your Derby best!</p>
DTSTAMP:20260423T100447Z
END:VEVENT
END:VCALENDAR